BEGIN:VCALENDAR
VERSION:2.0
METHOD:PUBLISH
BEGIN:VEVENT
DTSTART:20170615T130000Z
DTEND:20170617T210000Z
LOCATION:Alpharetta, GA 30022
TRANSP: OPAQUE
SEQUENCE:0
UID:
DTSTAMP:20260419T213210Z
SUMMARY:75% OFF FINAL TWO HOURS: Delightful John's Creek Estate Sale with Many Unexpected Surprises!
DESCRIPTION:75% OFF FINAL TWO HOURS: Delightful John's Creek Estate Sale with Many Unexpected Surprises! North Georgia Estate Sales LLC 
UID:1776655930
STREET-ADDRESS:See website
POSTAL-CODE:30022
LOCALITY:Alpharetta
REGION:ABBREV=GA
COUNTRY:ABBREV=US;ABBREV=USA:United States
URL;TYPE=Event Listing:https://estatesales.org/estate-sales/ga/alpharetta/30022/75-off-final-two-hours-1248793
PRIORITY:1
CLASS:PUBLIC
SEQUENCE:0
STATUS:CONFIRMED
TRANSP:OPAQUE
END:VEVENT
END:VCALENDAR
