BEGIN:VCALENDAR
VERSION:2.0
METHOD:PUBLISH
BEGIN:VEVENT
DTSTART:20240614T170000Z
DTEND:20240616T220000Z
LOCATION:Rancho Palos Verdes, CA 90275
TRANSP: OPAQUE
SEQUENCE:0
UID:
DTSTAMP:20260420T023616Z
SUMMARY:50% Off Sunday - Happy Father's Day
DESCRIPTION:50% Off Sunday - Happy Father's Day Diamond Heirlooms Estate Sales & Consulting  LLC 
UID:1776674176
STREET-ADDRESS:See website
POSTAL-CODE:90275
LOCALITY:Rancho Palos Verdes
REGION:ABBREV=CA
COUNTRY:ABBREV=US;ABBREV=USA:United States
URL;TYPE=Event Listing:https://estatesales.org/estate-sales/ca/rancho-palos-verdes/90275/50-off-sunday-happy-fathers-2317781
PRIORITY:1
CLASS:PUBLIC
SEQUENCE:0
STATUS:CONFIRMED
TRANSP:OPAQUE
END:VEVENT
END:VCALENDAR
