BEGIN:VCALENDAR
VERSION:2.0
METHOD:PUBLISH
BEGIN:VEVENT
DTSTART:20240614T163000Z
DTEND:20240615T210000Z
LOCATION:Gilbert, AZ 85298
TRANSP: OPAQUE
SEQUENCE:0
UID:
DTSTAMP:20260421T230519Z
SUMMARY:High End Eclectic Sale located in Gilbert
DESCRIPTION:High End Eclectic Sale located in Gilbert Boyds AZ 
UID:1776834319
STREET-ADDRESS:See website
POSTAL-CODE:85298
LOCALITY:Gilbert
REGION:ABBREV=AZ
COUNTRY:ABBREV=US;ABBREV=USA:United States
URL;TYPE=Event Listing:https://estatesales.org/estate-sales/az/gilbert/85298/high-end-eclectic-sale-located-2317451
PRIORITY:1
CLASS:PUBLIC
SEQUENCE:0
STATUS:CONFIRMED
TRANSP:OPAQUE
END:VEVENT
END:VCALENDAR
