BEGIN:VCALENDAR
VERSION:2.0
METHOD:PUBLISH
BEGIN:VEVENT
DTSTART:20240614T120000Z
DTEND:20240615T190000Z
LOCATION:Berlin, CT 06037
TRANSP: OPAQUE
SEQUENCE:0
UID:
DTSTAMP:20260425T171313Z
SUMMARY:Berlin Estate Sale
DESCRIPTION:Berlin Estate Sale Sean Mahoney Estate Sales LLC 
UID:1777158793
STREET-ADDRESS:See website
POSTAL-CODE:06037
LOCALITY:Berlin
REGION:ABBREV=CT
COUNTRY:ABBREV=US;ABBREV=USA:United States
URL;TYPE=Event Listing:https://estatesales.org/estate-sales/ct/berlin/06037/berlin-estate-sale-2320977
PRIORITY:1
CLASS:PUBLIC
SEQUENCE:0
STATUS:CONFIRMED
TRANSP:OPAQUE
END:VEVENT
END:VCALENDAR
