BEGIN:VCALENDAR
VERSION:2.0
METHOD:PUBLISH
BEGIN:VEVENT
DTSTART:20260613T140000Z
DTEND:20260614T200000Z
LOCATION:Elgin, IL 60124 (Full address will be shown on Fri, Jun 12 12:00am)
TRANSP: OPAQUE
SEQUENCE:0
UID:
DTSTAMP:20260424T000741Z
SUMMARY:Super South Elgin! High End furniture, decor, art, packed kitchen, jewelry, garden decor and more!
DESCRIPTION:Super South Elgin! High End furniture, decor, art, packed kitchen, jewelry, garden decor and more! A Rosey Glow Estate Sales 
UID:1777010861
STREET-ADDRESS:See website
POSTAL-CODE:60124
LOCALITY:Elgin
REGION:ABBREV=IL
COUNTRY:ABBREV=US;ABBREV=USA:United States
URL;TYPE=Event Listing:https://estatesales.org/estate-sales/il/elgin/60124/super-south-elgin-high-end-2437030
PRIORITY:1
CLASS:PUBLIC
SEQUENCE:0
STATUS:CONFIRMED
TRANSP:OPAQUE
END:VEVENT
END:VCALENDAR
