BEGIN:VCALENDAR
VERSION:2.0
METHOD:PUBLISH
BEGIN:VEVENT
DTSTART:20250613T150000Z
DTEND:20250614T190000Z
LOCATION:Kansas City, MO 64146
TRANSP: OPAQUE
SEQUENCE:0
UID:
DTSTAMP:20260419T070252Z
SUMMARY:Caring Transitions KC Silver flatware, Guns KC, MO
DESCRIPTION:Caring Transitions KC Silver flatware, Guns KC, MO Caring Transitions Kansas City 
UID:1776603772
STREET-ADDRESS:See website
POSTAL-CODE:64146
LOCALITY:Kansas City
REGION:ABBREV=MO
COUNTRY:ABBREV=US;ABBREV=USA:United States
URL;TYPE=Event Listing:https://estatesales.org/estate-sales/mo/kansas-city/64146/caring-transitions-kc-silver-flatware-2384149
PRIORITY:1
CLASS:PUBLIC
SEQUENCE:0
STATUS:CONFIRMED
TRANSP:OPAQUE
END:VEVENT
END:VCALENDAR
