BEGIN:VCALENDAR
VERSION:2.0
METHOD:PUBLISH
BEGIN:VEVENT
DTSTART:20250613T170000Z
DTEND:20250615T230000Z
LOCATION:Los Angeles, CA 90066
TRANSP: OPAQUE
SEQUENCE:0
UID:
DTSTAMP:20260422T115620Z
SUMMARY:50% OFF EVTHNG WOW! MASSIVE Designer/Luxury Sale!
DESCRIPTION:50% OFF EVTHNG WOW! MASSIVE Designer/Luxury Sale!
UID:1776880580
STREET-ADDRESS:See website
POSTAL-CODE:90066
LOCALITY:Los Angeles
REGION:ABBREV=CA
COUNTRY:ABBREV=US;ABBREV=USA:United States
URL;TYPE=Event Listing:https://estatesales.org/estate-sales/ca/los-angeles/90066/50-off-evthng-wow-massive-2384426
PRIORITY:1
CLASS:PUBLIC
SEQUENCE:0
STATUS:CONFIRMED
TRANSP:OPAQUE
END:VEVENT
END:VCALENDAR
