BEGIN:VCALENDAR
VERSION:2.0
METHOD:PUBLISH
BEGIN:VEVENT
DTSTART:20250613T150000Z
DTEND:20250614T230000Z
LOCATION:La Habra, CA 90631
TRANSP: OPAQUE
SEQUENCE:0
UID:
DTSTAMP:20260422T194554Z
SUMMARY:We’re starting this Estate Sale off with a BANG! Everything will be 50% off for the whole sale! You don’t need to wait until the last day. Come and have fun the first day and enjoy some first picks
DESCRIPTION:We’re starting this Estate Sale off with a BANG! Everything will be 50% off for the whole sale! You don’t need to wait until the last day. Come and have fun the first day and enjoy some first picks Helpful Hands Today 
UID:1776908754
STREET-ADDRESS:See website
POSTAL-CODE:90631
LOCALITY:La Habra
REGION:ABBREV=CA
COUNTRY:ABBREV=US;ABBREV=USA:United States
URL;TYPE=Event Listing:https://estatesales.org/estate-sales/ca/la-habra/90631/were-starting-this-estate-sale-2382874
PRIORITY:1
CLASS:PUBLIC
SEQUENCE:0
STATUS:CONFIRMED
TRANSP:OPAQUE
END:VEVENT
END:VCALENDAR
