BEGIN:VCALENDAR
VERSION:2.0
METHOD:PUBLISH
BEGIN:VEVENT
DTSTART:20250613T200000Z
DTEND:20250615T220000Z
LOCATION:By appointment only.
TRANSP: OPAQUE
SEQUENCE:0
UID:
DTSTAMP:20260420T024510Z
SUMMARY:2010 Land Rover Sport HSE Call
DESCRIPTION:2010 Land Rover Sport HSE Call Diamond Heirlooms Estate Sales & Consulting  LLC 
UID:1776674710
STREET-ADDRESS:See website
POSTAL-CODE:90503
LOCALITY:Torrance
REGION:ABBREV=CA
COUNTRY:ABBREV=US;ABBREV=USA:United States
URL;TYPE=Event Listing:https://estatesales.org/estate-sales/ca/torrance/90503/2010-land-rover-sport-hse-2384815
PRIORITY:1
CLASS:PUBLIC
SEQUENCE:0
STATUS:CONFIRMED
TRANSP:OPAQUE
END:VEVENT
END:VCALENDAR
