BEGIN:VCALENDAR
VERSION:2.0
METHOD:PUBLISH
BEGIN:VEVENT
DTSTART:20200613T170000Z
DTEND:20200614T220000Z
LOCATION:Los Angeles, CA 90068
TRANSP: OPAQUE
SEQUENCE:0
UID:
DTSTAMP:20260420T021116Z
SUMMARY:"Old Hollywood Memorabilia", Items of Legendary TV/Film Actor - Gregg Palmer.
DESCRIPTION:"Old Hollywood Memorabilia", Items of Legendary TV/Film Actor - Gregg Palmer. Triumphant Estate Sales of Los Angeles 
UID:1776672676
STREET-ADDRESS:See website
POSTAL-CODE:90068
LOCALITY:Los Angeles
REGION:ABBREV=CA
COUNTRY:ABBREV=US;ABBREV=USA:United States
URL;TYPE=Event Listing:https://estatesales.org/estate-sales/ca/hollywood/90068/old-hollywood-memorabilia-items-of-1789897
PRIORITY:1
CLASS:PUBLIC
SEQUENCE:0
STATUS:CONFIRMED
TRANSP:OPAQUE
END:VEVENT
END:VCALENDAR
