BEGIN:VCALENDAR
VERSION:2.0
METHOD:PUBLISH
BEGIN:VEVENT
DTSTART:20200613T170000Z
DTEND:20200614T220000Z
LOCATION:Los Angeles, CA 90068
TRANSP: OPAQUE
SEQUENCE:0
UID:
DTSTAMP:20260420T021115Z
SUMMARY:Hollywood Hills Pristine Collections of Glass, Art, Decor, Furniture and More. 
DESCRIPTION:Hollywood Hills Pristine Collections of Glass, Art, Decor, Furniture and More.  Triumphant Estate Sales of Los Angeles 
UID:1776672675
STREET-ADDRESS:See website
POSTAL-CODE:90068
LOCALITY:Los Angeles
REGION:ABBREV=CA
COUNTRY:ABBREV=US;ABBREV=USA:United States
URL;TYPE=Event Listing:https://estatesales.org/estate-sales/ca/los-angeles/90068/hollywood-hills-pristine-collections-of-1789503
PRIORITY:1
CLASS:PUBLIC
SEQUENCE:0
STATUS:CONFIRMED
TRANSP:OPAQUE
END:VEVENT
END:VCALENDAR
