BEGIN:VCALENDAR
VERSION:2.0
METHOD:PUBLISH
BEGIN:VEVENT
DTSTART:20190613T130000Z
DTEND:20190614T190000Z
LOCATION:Clearwater, FL 33756
TRANSP: OPAQUE
SEQUENCE:0
UID:
DTSTAMP:20260420T135233Z
SUMMARY:Clearwater Sale Features A Range Rover, Tons of Tools, and More!
DESCRIPTION:Clearwater Sale Features A Range Rover, Tons of Tools, and More! Castaway Estate Sales  
UID:1776714753
STREET-ADDRESS:See website
POSTAL-CODE:33756
LOCALITY:Clearwater
REGION:ABBREV=FL
COUNTRY:ABBREV=US;ABBREV=USA:United States
URL;TYPE=Event Listing:https://estatesales.org/estate-sales/fl/clearwater/33756/clearwater-sale-features-a-range-1664745
PRIORITY:1
CLASS:PUBLIC
SEQUENCE:0
STATUS:CONFIRMED
TRANSP:OPAQUE
END:VEVENT
END:VCALENDAR
