BEGIN:VCALENDAR
VERSION:2.0
METHOD:PUBLISH
BEGIN:VEVENT
DTSTART:20260612T150000Z
DTEND:20260613T210000Z
LOCATION:Phoenix, AZ 85051 (Full address will be shown on Fri, Jun 12 5:00am)
TRANSP: OPAQUE
SEQUENCE:0
UID:
DTSTAMP:20260423T010857Z
SUMMARY:***WOOD WORKERS WONDERLAND IN PHOENIX***
DESCRIPTION:***WOOD WORKERS WONDERLAND IN PHOENIX*** Anderson Family Estate Sales & Services, LLC 
UID:1776928137
STREET-ADDRESS:See website
POSTAL-CODE:85051
LOCALITY:Phoenix
REGION:ABBREV=AZ
COUNTRY:ABBREV=US;ABBREV=USA:United States
URL;TYPE=Event Listing:https://estatesales.org/estate-sales/az/phoenix/85051/wood-workers-wonderland-in-phoenix-2436778
PRIORITY:1
CLASS:PUBLIC
SEQUENCE:0
STATUS:CONFIRMED
TRANSP:OPAQUE
END:VEVENT
END:VCALENDAR
