BEGIN:VCALENDAR
VERSION:2.0
METHOD:PUBLISH
BEGIN:VEVENT
DTSTART:20250612T140000Z
DTEND:20250614T200000Z
LOCATION:Gaithersburg, MD 20886
TRANSP: OPAQUE
SEQUENCE:0
UID:
DTSTAMP:20260421T080804Z
SUMMARY:50% OFF SATURDAY! Gifts, Gems & Great Finds! Father’s Day Weekend Estate Sale – Montgomery Village, MD
DESCRIPTION:50% OFF SATURDAY! Gifts, Gems & Great Finds! Father’s Day Weekend Estate Sale – Montgomery Village, MD JP's Estate Sales, LLC 
UID:1776780484
STREET-ADDRESS:See website
POSTAL-CODE:20886
LOCALITY:Gaithersburg
REGION:ABBREV=MD
COUNTRY:ABBREV=US;ABBREV=USA:United States
URL;TYPE=Event Listing:https://estatesales.org/estate-sales/md/gaithersburg/20886/25-off-friday-gifts-gems-2383324
PRIORITY:1
CLASS:PUBLIC
SEQUENCE:0
STATUS:CONFIRMED
TRANSP:OPAQUE
END:VEVENT
END:VCALENDAR
