BEGIN:VCALENDAR
VERSION:2.0
METHOD:PUBLISH
BEGIN:VEVENT
DTSTART:20250612T150000Z
DTEND:20250614T200000Z
LOCATION:Littleton, CO 80124
TRANSP: OPAQUE
SEQUENCE:0
UID:
DTSTAMP:20260419T061834Z
SUMMARY:Grasons of Highlands Ranch - Classy in Lone Tree!
DESCRIPTION:Grasons of Highlands Ranch - Classy in Lone Tree! Grasons of Southwest Denver, CO 
UID:1776601114
STREET-ADDRESS:See website
POSTAL-CODE:80124
LOCALITY:Littleton
REGION:ABBREV=CO
COUNTRY:ABBREV=US;ABBREV=USA:United States
URL;TYPE=Event Listing:https://estatesales.org/estate-sales/co/lone-tree/80124/grasons-of-highlands-ranch-classy-2383591
PRIORITY:1
CLASS:PUBLIC
SEQUENCE:0
STATUS:CONFIRMED
TRANSP:OPAQUE
END:VEVENT
END:VCALENDAR
