BEGIN:VCALENDAR
VERSION:2.0
METHOD:PUBLISH
BEGIN:VEVENT
DTSTART:20250612T120000Z
DTEND:20250614T190000Z
LOCATION:By appointment only.
TRANSP: OPAQUE
SEQUENCE:0
UID:
DTSTAMP:20260424T202746Z
SUMMARY:Discover Unique Treasures: A South Tulsa Estate Sale
DESCRIPTION:Discover Unique Treasures: A South Tulsa Estate Sale Family Nest of Tulsa 
UID:1777084066
STREET-ADDRESS:See website
POSTAL-CODE:74136
LOCALITY:Tulsa
REGION:ABBREV=OK
COUNTRY:ABBREV=US;ABBREV=USA:United States
URL;TYPE=Event Listing:https://estatesales.org/estate-sales/ok/tulsa/74136/discover-unique-treasures-a-south-2380168
PRIORITY:1
CLASS:PUBLIC
SEQUENCE:0
STATUS:CONFIRMED
TRANSP:OPAQUE
END:VEVENT
END:VCALENDAR
