BEGIN:VCALENDAR
VERSION:2.0
METHOD:PUBLISH
BEGIN:VEVENT
DTSTART:20260611T150000Z
DTEND:20260613T210000Z
LOCATION:Santa Fe, TX 77517 (Full address will be shown on Wed, Jun 10 5:00pm)
TRANSP: OPAQUE
SEQUENCE:0
UID:
DTSTAMP:20260422T153325Z
SUMMARY:Santa Fe Texas Estate Sale
DESCRIPTION:Santa Fe Texas Estate Sale AEP Estate Liquidation 
UID:1776893605
STREET-ADDRESS:See website
POSTAL-CODE:77517
LOCALITY:Santa Fe
REGION:ABBREV=TX
COUNTRY:ABBREV=US;ABBREV=USA:United States
URL;TYPE=Event Listing:https://estatesales.org/estate-sales/tx/santa-fe/77517/santa-fe-texas-estate-sale-2436631
PRIORITY:1
CLASS:PUBLIC
SEQUENCE:0
STATUS:CONFIRMED
TRANSP:OPAQUE
END:VEVENT
END:VCALENDAR
