BEGIN:VCALENDAR
VERSION:2.0
METHOD:PUBLISH
BEGIN:VEVENT
DTSTART:20220611T140000Z
DTEND:20220612T200000Z
LOCATION:Miami, FL 33182
TRANSP: OPAQUE
SEQUENCE:0
UID:
DTSTAMP:20260421T140251Z
SUMMARY:Home under contract. Everything inside must go!
DESCRIPTION:Home under contract. Everything inside must go! Auction Company of America 
UID:1776801771
STREET-ADDRESS:See website
POSTAL-CODE:33182
LOCALITY:Miami
REGION:ABBREV=FL
COUNTRY:ABBREV=US;ABBREV=USA:United States
URL;TYPE=Event Listing:https://estatesales.org/estate-sales/fl/miami/33182/home-under-contract-everything-inside-2051627
PRIORITY:1
CLASS:PUBLIC
SEQUENCE:0
STATUS:CONFIRMED
TRANSP:OPAQUE
END:VEVENT
END:VCALENDAR
