BEGIN:VCALENDAR
VERSION:2.0
METHOD:PUBLISH
BEGIN:VEVENT
DTSTART:20220611T130000Z
DTEND:20220611T190000Z
LOCATION:Belmont, MA 02478
TRANSP: OPAQUE
SEQUENCE:0
UID:
DTSTAMP:20260419T092020Z
SUMMARY:Fine Belmont Estate Sale
DESCRIPTION:Fine Belmont Estate Sale Estate Sale Specialists, LLC 
UID:1776612020
STREET-ADDRESS:See website
POSTAL-CODE:02478
LOCALITY:Belmont
REGION:ABBREV=MA
COUNTRY:ABBREV=US;ABBREV=USA:United States
URL;TYPE=Event Listing:https://estatesales.org/estate-sales/ma/belmont/02478/fine-belmont-estate-sale-2049425
PRIORITY:1
CLASS:PUBLIC
SEQUENCE:0
STATUS:CONFIRMED
TRANSP:OPAQUE
END:VEVENT
END:VCALENDAR
