BEGIN:VCALENDAR
VERSION:2.0
METHOD:PUBLISH
BEGIN:VEVENT
DTSTART:20210611T130000Z
DTEND:20210612T200000Z
LOCATION:Neosho, MO 64850
TRANSP: OPAQUE
SEQUENCE:0
UID:
DTSTAMP:20260419T122549Z
SUMMARY:Estate Tag Sale of Val Jean and the Late Dr James Castleberry 
DESCRIPTION:Estate Tag Sale of Val Jean and the Late Dr James Castleberry  New Beginnings Estate Sales of SW MO 
UID:1776623149
STREET-ADDRESS:See website
POSTAL-CODE:64850
LOCALITY:Neosho
REGION:ABBREV=MO
COUNTRY:ABBREV=US;ABBREV=USA:United States
URL;TYPE=Event Listing:https://estatesales.org/estate-sales/mo/neosho/64850/estate-tag-sale-of-val-1913887
PRIORITY:1
CLASS:PUBLIC
SEQUENCE:0
STATUS:CONFIRMED
TRANSP:OPAQUE
END:VEVENT
END:VCALENDAR
