BEGIN:VCALENDAR
VERSION:2.0
METHOD:PUBLISH
BEGIN:VEVENT
DTSTART:20170611T150000Z
DTEND:20170611T220000Z
LOCATION:Golden, CO 80401
TRANSP: OPAQUE
SEQUENCE:0
UID:
DTSTAMP:20260422T131740Z
SUMMARY:410 Collectibles - Flea Market
DESCRIPTION:410 Collectibles - Flea Market 410 Collectibles 
UID:1776885460
STREET-ADDRESS:See website
POSTAL-CODE:80401
LOCALITY:Golden
REGION:ABBREV=CO
COUNTRY:ABBREV=US;ABBREV=USA:United States
URL;TYPE=Event Listing:https://estatesales.org/estate-sales/co/golden/80401/410-collectibles-flea-market-1243169
PRIORITY:1
CLASS:PUBLIC
SEQUENCE:0
STATUS:CONFIRMED
TRANSP:OPAQUE
END:VEVENT
END:VCALENDAR
