BEGIN:VCALENDAR
VERSION:2.0
METHOD:PUBLISH
BEGIN:VEVENT
DTSTART:20150611T140000Z
DTEND:20150614T230000Z
LOCATION:Houston, TX 77059
TRANSP: OPAQUE
SEQUENCE:0
UID:
DTSTAMP:20260424T170841Z
SUMMARY:Lucile Suchina-Clear Lake Estate Sale
DESCRIPTION:Lucile Suchina-Clear Lake Estate Sale Arbor Antiques Services, Inc. 
UID:1777072121
STREET-ADDRESS:See website
POSTAL-CODE:77059
LOCALITY:Houston
REGION:ABBREV=TX
COUNTRY:ABBREV=US;ABBREV=USA:United States
URL;TYPE=Event Listing:https://estatesales.org/estate-sales/tx/houston/77059/lucile-suchinaclear-lake-estate-sale-570723
PRIORITY:1
CLASS:PUBLIC
SEQUENCE:0
STATUS:CONFIRMED
TRANSP:OPAQUE
END:VEVENT
END:VCALENDAR
