BEGIN:VCALENDAR
VERSION:2.0
METHOD:PUBLISH
BEGIN:VEVENT
DTSTART:20150611T140000Z
DTEND:20150613T200000Z
LOCATION:Lombard, IL 60148
TRANSP: OPAQUE
SEQUENCE:0
UID:
DTSTAMP:20260420T162630Z
SUMMARY:**SUBTLE TREASURES**
DESCRIPTION:**SUBTLE TREASURES** Subtle Treasures 
UID:1776723990
STREET-ADDRESS:See website
POSTAL-CODE:60148
LOCALITY:Lombard
REGION:ABBREV=IL
COUNTRY:ABBREV=US;ABBREV=USA:United States
URL;TYPE=Event Listing:https://estatesales.org/estate-sales/il/lombard/60148/subtle-treasures-569919
PRIORITY:1
CLASS:PUBLIC
SEQUENCE:0
STATUS:CONFIRMED
TRANSP:OPAQUE
END:VEVENT
END:VCALENDAR
