BEGIN:VCALENDAR
VERSION:2.0
METHOD:PUBLISH
BEGIN:VEVENT
DTSTART:20220610T160000Z
DTEND:20220612T230000Z
LOCATION:Walnut Creek, CA 94595
TRANSP: OPAQUE
SEQUENCE:0
UID:
DTSTAMP:20260421T030019Z
SUMMARY:HUGE ANTIQUE SHOP AND PARKING LOT SALE
DESCRIPTION:HUGE ANTIQUE SHOP AND PARKING LOT SALE Quail Country Antiques 
UID:1776762019
STREET-ADDRESS:See website
POSTAL-CODE:94595
LOCALITY:Walnut Creek
REGION:ABBREV=CA
COUNTRY:ABBREV=US;ABBREV=USA:United States
URL;TYPE=Event Listing:https://estatesales.org/estate-sales/ca/walnut-creek/94595/huge-antique-shop-and-parking-2052865
PRIORITY:1
CLASS:PUBLIC
SEQUENCE:0
STATUS:CONFIRMED
TRANSP:OPAQUE
END:VEVENT
END:VCALENDAR
