BEGIN:VCALENDAR
VERSION:2.0
METHOD:PUBLISH
BEGIN:VEVENT
DTSTART:20220610T130000Z
DTEND:20220612T170000Z
LOCATION:Wayne, MI 48184
TRANSP: OPAQUE
SEQUENCE:0
UID:
DTSTAMP:20260422T084715Z
SUMMARY:OH YEAH THIS IS YOUR GRANDFATHER'S MACHINE/WORK SHOP ESTATE SALE by All Out Estate Sale Services
DESCRIPTION:OH YEAH THIS IS YOUR GRANDFATHER'S MACHINE/WORK SHOP ESTATE SALE by All Out Estate Sale Services All Out Estate Sale Services, LLC 
UID:1776869235
STREET-ADDRESS:See website
POSTAL-CODE:48184
LOCALITY:Wayne
REGION:ABBREV=MI
COUNTRY:ABBREV=US;ABBREV=USA:United States
URL;TYPE=Event Listing:https://estatesales.org/estate-sales/mi/wayne/48184/oh-yeah-this-is-your-2030033
PRIORITY:1
CLASS:PUBLIC
SEQUENCE:0
STATUS:CONFIRMED
TRANSP:OPAQUE
END:VEVENT
END:VCALENDAR
