BEGIN:VCALENDAR
VERSION:2.0
METHOD:PUBLISH
BEGIN:VEVENT
DTSTART:20220610T140000Z
DTEND:20220611T220000Z
LOCATION:Sun Prairie, WI 53590
TRANSP: OPAQUE
SEQUENCE:0
UID:
DTSTAMP:20260422T230533Z
SUMMARY:Sun Prairie Estate Sale by Bennett & Roelofs Estate Sales LLC
DESCRIPTION:Sun Prairie Estate Sale by Bennett & Roelofs Estate Sales LLC Bennett & Roelofs Estate Service LLC 
UID:1776920733
STREET-ADDRESS:See website
POSTAL-CODE:53590
LOCALITY:Sun Prairie
REGION:ABBREV=WI
COUNTRY:ABBREV=US;ABBREV=USA:United States
URL;TYPE=Event Listing:https://estatesales.org/estate-sales/wi/sun-prairie/53590/sun-prairie-estate-sale-by-2048681
PRIORITY:1
CLASS:PUBLIC
SEQUENCE:0
STATUS:CONFIRMED
TRANSP:OPAQUE
END:VEVENT
END:VCALENDAR
