BEGIN:VCALENDAR
VERSION:2.0
METHOD:PUBLISH
BEGIN:VEVENT
DTSTART:20200610T160000Z
DTEND:20200610T190000Z
LOCATION:Placentia, CA 92870
TRANSP: OPAQUE
SEQUENCE:0
UID:
DTSTAMP:20260425T134051Z
SUMMARY:1 Day Only 70% Off Estate Sale
DESCRIPTION:1 Day Only 70% Off Estate Sale Valued Treasures LLC 
UID:1777146051
STREET-ADDRESS:See website
POSTAL-CODE:92870
LOCALITY:Placentia
REGION:ABBREV=CA
COUNTRY:ABBREV=US;ABBREV=USA:United States
URL;TYPE=Event Listing:https://estatesales.org/estate-sales/ca/placentia/92870/1-day-only-70-off-1789273
PRIORITY:1
CLASS:PUBLIC
SEQUENCE:0
STATUS:CONFIRMED
TRANSP:OPAQUE
END:VEVENT
END:VCALENDAR
