BEGIN:VCALENDAR
VERSION:2.0
METHOD:PUBLISH
BEGIN:VEVENT
DTSTART:20170610T150000Z
DTEND:20170611T210000Z
LOCATION:Stanwood, WA 98282
TRANSP: OPAQUE
SEQUENCE:0
UID:
DTSTAMP:20260424T133524Z
SUMMARY:A&W Helping Hands "Camano Island " Estate sale
DESCRIPTION:A&W Helping Hands "Camano Island " Estate sale A&W Helping Hands Estate Sale services and full cleanouts 
UID:1777059324
STREET-ADDRESS:See website
POSTAL-CODE:98282
LOCALITY:Stanwood
REGION:ABBREV=WA
COUNTRY:ABBREV=US;ABBREV=USA:United States
URL;TYPE=Event Listing:https://estatesales.org/estate-sales/wa/stanwood/98282/aw-helping-hands-camano-island-1247391
PRIORITY:1
CLASS:PUBLIC
SEQUENCE:0
STATUS:CONFIRMED
TRANSP:OPAQUE
END:VEVENT
END:VCALENDAR
