BEGIN:VCALENDAR
VERSION:2.0
METHOD:PUBLISH
BEGIN:VEVENT
DTSTART:20160610T150000Z
DTEND:20160612T190000Z
LOCATION:New Berlin, WI 53151
TRANSP: OPAQUE
SEQUENCE:0
UID:
DTSTAMP:20260420T030217Z
SUMMARY:New Berlin Estate Sale-Tons o' Stuff
DESCRIPTION:New Berlin Estate Sale-Tons o' Stuff All in the Family Estate Sales 
UID:1776675737
STREET-ADDRESS:See website
POSTAL-CODE:53151
LOCALITY:New Berlin
REGION:ABBREV=WI
COUNTRY:ABBREV=US;ABBREV=USA:United States
URL;TYPE=Event Listing:https://estatesales.org/estate-sales/wi/new-berlin/53151/new-berlin-estate-saletons-o-862997
PRIORITY:1
CLASS:PUBLIC
SEQUENCE:0
STATUS:CONFIRMED
TRANSP:OPAQUE
END:VEVENT
END:VCALENDAR
