BEGIN:VCALENDAR
VERSION:2.0
METHOD:PUBLISH
BEGIN:VEVENT
DTSTART:20160610T130000Z
DTEND:20160611T200000Z
LOCATION:Overland Park, KS 66223
TRANSP: OPAQUE
SEQUENCE:0
UID:
DTSTAMP:20260420T172033Z
SUMMARY:Lionsgate Designer Home Estate Sale
DESCRIPTION:Lionsgate Designer Home Estate Sale Heartland Estate Sales 
UID:1776727233
STREET-ADDRESS:See website
POSTAL-CODE:66223
LOCALITY:Overland Park
REGION:ABBREV=KS
COUNTRY:ABBREV=US;ABBREV=USA:United States
URL;TYPE=Event Listing:https://estatesales.org/estate-sales/ks/overland-park/66223/lionsgate-designer-home-estate-sale-846369
PRIORITY:1
CLASS:PUBLIC
SEQUENCE:0
STATUS:CONFIRMED
TRANSP:OPAQUE
END:VEVENT
END:VCALENDAR
