BEGIN:VCALENDAR
VERSION:2.0
METHOD:PUBLISH
BEGIN:VEVENT
DTSTART:20160610T140000Z
DTEND:20160611T200000Z
LOCATION:Coloma, WI 54930
TRANSP: OPAQUE
SEQUENCE:0
UID:
DTSTAMP:20260424T133523Z
SUMMARY:Huge Estate Sale, Tools, Hunting, Gaming
DESCRIPTION:Huge Estate Sale, Tools, Hunting, Gaming Trophy Estate Sales 
UID:1777059323
STREET-ADDRESS:See website
POSTAL-CODE:54930
LOCALITY:Coloma
REGION:ABBREV=WI
COUNTRY:ABBREV=US;ABBREV=USA:United States
URL;TYPE=Event Listing:https://estatesales.org/estate-sales/wi/coloma/54930/huge-estate-sale-tools-hunting-878399
PRIORITY:1
CLASS:PUBLIC
SEQUENCE:0
STATUS:CONFIRMED
TRANSP:OPAQUE
END:VEVENT
END:VCALENDAR
