BEGIN:VCALENDAR
VERSION:2.0
METHOD:PUBLISH
BEGIN:VEVENT
DTSTART:20160610T223000Z
DTEND:20160614T040000Z
LOCATION:By appointment only.
TRANSP: OPAQUE
SEQUENCE:0
UID:
DTSTAMP:20260421T071319Z
SUMMARY:This Online Auction is in Clinton Township, MI
DESCRIPTION:This Online Auction is in Clinton Township, MI Caring Transitions of Oakland County MI 
UID:1776777199
STREET-ADDRESS:See website
POSTAL-CODE:48038
LOCALITY:Clinton Township
REGION:ABBREV=MI
COUNTRY:ABBREV=US;ABBREV=USA:United States
URL;TYPE=Event Listing:https://estatesales.org/estate-sales/mi/clinton-township/48038/this-online-auction-is-in-881407
PRIORITY:1
CLASS:PUBLIC
SEQUENCE:0
STATUS:CONFIRMED
TRANSP:OPAQUE
END:VEVENT
END:VCALENDAR
