BEGIN:VCALENDAR
VERSION:2.0
METHOD:PUBLISH
BEGIN:VEVENT
DTSTART:20250609T140000Z
DTEND:20250609T180000Z
LOCATION:San Pedro, CA 90731
TRANSP: OPAQUE
SEQUENCE:0
UID:
DTSTAMP:20260420T024418Z
SUMMARY:FREE FREE FREE MONDAY - BRING CONTAINERS/BAGS
DESCRIPTION:FREE FREE FREE MONDAY - BRING CONTAINERS/BAGS Diamond Heirlooms Estate Sales & Consulting  LLC 
UID:1776674658
STREET-ADDRESS:See website
POSTAL-CODE:90731
LOCALITY:San Pedro
REGION:ABBREV=CA
COUNTRY:ABBREV=US;ABBREV=USA:United States
URL;TYPE=Event Listing:https://estatesales.org/estate-sales/ca/san-pedro/90731/free-free-free-monday-bring-2383635
PRIORITY:1
CLASS:PUBLIC
SEQUENCE:0
STATUS:CONFIRMED
TRANSP:OPAQUE
END:VEVENT
END:VCALENDAR
