BEGIN:VCALENDAR
VERSION:2.0
METHOD:PUBLISH
BEGIN:VEVENT
DTSTART:20230609T120000Z
DTEND:20230611T160000Z
LOCATION:Tarpon Springs, FL 34689
TRANSP: OPAQUE
SEQUENCE:0
UID:
DTSTAMP:20260423T094747Z
SUMMARY:Baby Boomers Tarpon Springs Sale
DESCRIPTION:Baby Boomers Tarpon Springs Sale Baby Boomers Estate Sales 
UID:1776959267
STREET-ADDRESS:See website
POSTAL-CODE:34689
LOCALITY:Tarpon Springs
REGION:ABBREV=FL
COUNTRY:ABBREV=US;ABBREV=USA:United States
URL;TYPE=Event Listing:https://estatesales.org/estate-sales/fl/tarpon-springs/34689/baby-boomers-tarpon-springs-sale-2191055
PRIORITY:1
CLASS:PUBLIC
SEQUENCE:0
STATUS:CONFIRMED
TRANSP:OPAQUE
END:VEVENT
END:VCALENDAR
