BEGIN:VCALENDAR
VERSION:2.0
METHOD:PUBLISH
BEGIN:VEVENT
DTSTART:20230609T150000Z
DTEND:20230611T210000Z
LOCATION:North Las Vegas, NV 89086
TRANSP: OPAQUE
SEQUENCE:0
UID:
DTSTAMP:20260425T162418Z
SUMMARY:Open Boxes, Overstock from Macy's, Target and Bed and Bath, lots More!
DESCRIPTION:Open Boxes, Overstock from Macy's, Target and Bed and Bath, lots More! Estate Treasures, LLC 
UID:1777155858
STREET-ADDRESS:See website
POSTAL-CODE:89086
LOCALITY:North Las Vegas
REGION:ABBREV=NV
COUNTRY:ABBREV=US;ABBREV=USA:United States
URL;TYPE=Event Listing:https://estatesales.org/estate-sales/nv/north-las-vegas/89086/open-boxes-overstock-from-macys-2191491
PRIORITY:1
CLASS:PUBLIC
SEQUENCE:0
STATUS:CONFIRMED
TRANSP:OPAQUE
END:VEVENT
END:VCALENDAR
