BEGIN:VCALENDAR
VERSION:2.0
METHOD:PUBLISH
BEGIN:VEVENT
DTSTART:20220609T130000Z
DTEND:20220609T200000Z
LOCATION:Lansing, MI 48906
TRANSP: OPAQUE
SEQUENCE:0
UID:
DTSTAMP:20260423T233334Z
SUMMARY:A Spectacular One Day Sale in Lansing, Mi on Thursday, June 9th 2022 from 9-4
DESCRIPTION:A Spectacular One Day Sale in Lansing, Mi on Thursday, June 9th 2022 from 9-4 Caring Transitions of S.E. Michigan 
UID:1777008814
STREET-ADDRESS:See website
POSTAL-CODE:48906
LOCALITY:Lansing
REGION:ABBREV=MI
COUNTRY:ABBREV=US;ABBREV=USA:United States
URL;TYPE=Event Listing:https://estatesales.org/estate-sales/mi/lansing/48906/a-spectacular-one-day-sale-2052017
PRIORITY:1
CLASS:PUBLIC
SEQUENCE:0
STATUS:CONFIRMED
TRANSP:OPAQUE
END:VEVENT
END:VCALENDAR
