BEGIN:VCALENDAR
VERSION:2.0
METHOD:PUBLISH
BEGIN:VEVENT
DTSTART:20210609T120000Z
DTEND:20210612T180000Z
LOCATION:Ozark, MO 65721
TRANSP: OPAQUE
SEQUENCE:0
UID:
DTSTAMP:20260419T194943Z
SUMMARY:Antiques collectibles furniture and more
DESCRIPTION:Antiques collectibles furniture and more Above and Beyond estate sales 
UID:1776649783
STREET-ADDRESS:See website
POSTAL-CODE:65721
LOCALITY:Ozark
REGION:ABBREV=MO
COUNTRY:ABBREV=US;ABBREV=USA:United States
URL;TYPE=Event Listing:https://estatesales.org/estate-sales/mo/ozark/65721/antiques-collectibles-furniture-and-more-1914345
PRIORITY:1
CLASS:PUBLIC
SEQUENCE:0
STATUS:CONFIRMED
TRANSP:OPAQUE
END:VEVENT
END:VCALENDAR
