BEGIN:VCALENDAR
VERSION:2.0
METHOD:PUBLISH
BEGIN:VEVENT
DTSTART:20200609T170000Z
DTEND:20200611T200000Z
LOCATION:By appointment only.
TRANSP: OPAQUE
SEQUENCE:0
UID:
DTSTAMP:20260419T210042Z
SUMMARY:ONLINE SALE by Grasons Co Elite of North OC in Santa Ana (PLEASE READ DESCRIPTION)
DESCRIPTION:ONLINE SALE by Grasons Co Elite of North OC in Santa Ana (PLEASE READ DESCRIPTION) Grasons Co of Elite of North OC 
UID:1776654042
STREET-ADDRESS:See website
POSTAL-CODE:92705
LOCALITY:Santa Ana
REGION:ABBREV=CA
COUNTRY:ABBREV=US;ABBREV=USA:United States
URL;TYPE=Event Listing:https://estatesales.org/estate-sales/ca/santa-ana/92705/online-sale-by-grasons-co-1784829
PRIORITY:1
CLASS:PUBLIC
SEQUENCE:0
STATUS:CONFIRMED
TRANSP:OPAQUE
END:VEVENT
END:VCALENDAR
