BEGIN:VCALENDAR
VERSION:2.0
METHOD:PUBLISH
BEGIN:VEVENT
DTSTART:20180609T120000Z
DTEND:20180609T180000Z
LOCATION:Lynnfield, MA 01940
TRANSP: OPAQUE
SEQUENCE:0
UID:
DTSTAMP:20260419T121858Z
SUMMARY:Lynnfield Estate Sale
DESCRIPTION:Lynnfield Estate Sale Precision Estate Sales 
UID:1776622738
STREET-ADDRESS:See website
POSTAL-CODE:01940
LOCALITY:Lynnfield
REGION:ABBREV=MA
COUNTRY:ABBREV=US;ABBREV=USA:United States
URL;TYPE=Event Listing:https://estatesales.org/estate-sales/ma/lynnfield/01940/lynnfield-estate-sale-1525613
PRIORITY:1
CLASS:PUBLIC
SEQUENCE:0
STATUS:CONFIRMED
TRANSP:OPAQUE
END:VEVENT
END:VCALENDAR
