BEGIN:VCALENDAR
VERSION:2.0
METHOD:PUBLISH
BEGIN:VEVENT
DTSTART:20170609T160000Z
DTEND:20170611T210000Z
LOCATION:Salt Lake City, UT 84109
TRANSP: OPAQUE
SEQUENCE:0
UID:
DTSTAMP:20260420T224939Z
SUMMARY:HISTORIC COLLECTION OLYMPUS COVE ESTATE SALE EVERYTHING INCLUDING THE KITCHEN SINK! JUNE 9 -11 10-3
DESCRIPTION:HISTORIC COLLECTION OLYMPUS COVE ESTATE SALE EVERYTHING INCLUDING THE KITCHEN SINK! JUNE 9 -11 10-3 VCS Estate Sales & Liquidation Services, LLC 
UID:1776746979
STREET-ADDRESS:See website
POSTAL-CODE:84109
LOCALITY:Salt Lake City
REGION:ABBREV=UT
COUNTRY:ABBREV=US;ABBREV=USA:United States
URL;TYPE=Event Listing:https://estatesales.org/estate-sales/ut/salt-lake-city/84109/historic-collection-olympus-cove-estate-1244611
PRIORITY:1
CLASS:PUBLIC
SEQUENCE:0
STATUS:CONFIRMED
TRANSP:OPAQUE
END:VEVENT
END:VCALENDAR
