BEGIN:VCALENDAR
VERSION:2.0
METHOD:PUBLISH
BEGIN:VEVENT
DTSTART:20170609T150000Z
DTEND:20170610T180000Z
LOCATION:Saint Paul, MN 55113
TRANSP: OPAQUE
SEQUENCE:0
UID:
DTSTAMP:20260419T201431Z
SUMMARY:Mid-Century Modern Estate Sale in Falcon Heights!
DESCRIPTION:Mid-Century Modern Estate Sale in Falcon Heights! Caring Transitions Twin Cities East 
UID:1776651271
STREET-ADDRESS:See website
POSTAL-CODE:55113
LOCALITY:Saint Paul
REGION:ABBREV=MN
COUNTRY:ABBREV=US;ABBREV=USA:United States
URL;TYPE=Event Listing:https://estatesales.org/estate-sales/mn/saint-paul/55113/midcentury-modern-estate-sale-in-1234425
PRIORITY:1
CLASS:PUBLIC
SEQUENCE:0
STATUS:CONFIRMED
TRANSP:OPAQUE
END:VEVENT
END:VCALENDAR
