BEGIN:VCALENDAR
VERSION:2.0
METHOD:PUBLISH
BEGIN:VEVENT
DTSTART:20170609T160000Z
DTEND:20170611T220000Z
LOCATION:Auburn, CA 95603
TRANSP: OPAQUE
SEQUENCE:0
UID:
DTSTAMP:20260421T115606Z
SUMMARY:New Life Presents Beautiful Auburn Hills Estate Sale
DESCRIPTION:New Life Presents Beautiful Auburn Hills Estate Sale Calder Estate Sales and Liquidators 
UID:1776794166
STREET-ADDRESS:See website
POSTAL-CODE:95603
LOCALITY:Auburn
REGION:ABBREV=CA
COUNTRY:ABBREV=US;ABBREV=USA:United States
URL;TYPE=Event Listing:https://estatesales.org/estate-sales/ca/auburn/95603/new-life-presents-beautiful-auburn-1208241
PRIORITY:1
CLASS:PUBLIC
SEQUENCE:0
STATUS:CONFIRMED
TRANSP:OPAQUE
END:VEVENT
END:VCALENDAR
