BEGIN:VCALENDAR
VERSION:2.0
METHOD:PUBLISH
BEGIN:VEVENT
DTSTART:20190608T123000Z
DTEND:20190609T180000Z
LOCATION:Weston, MA 02493
TRANSP: OPAQUE
SEQUENCE:0
UID:
DTSTAMP:20260419T092710Z
SUMMARY:Updated! 2-DAY WESTON TREASURE-HUNTER'S ESTATE SALE - Furniture, Jewelry, Books, Artwork, Patio, Porcelain and More!
DESCRIPTION:Updated! 2-DAY WESTON TREASURE-HUNTER'S ESTATE SALE - Furniture, Jewelry, Books, Artwork, Patio, Porcelain and More! Exceptional Estate Sales LLC 
UID:1776612430
STREET-ADDRESS:See website
POSTAL-CODE:02493
LOCALITY:Weston
REGION:ABBREV=MA
COUNTRY:ABBREV=US;ABBREV=USA:United States
URL;TYPE=Event Listing:https://estatesales.org/estate-sales/ma/weston/02493/updated-2day-weston-treasurehunters-estate-1671429
PRIORITY:1
CLASS:PUBLIC
SEQUENCE:0
STATUS:CONFIRMED
TRANSP:OPAQUE
END:VEVENT
END:VCALENDAR
