BEGIN:VCALENDAR
VERSION:2.0
METHOD:PUBLISH
BEGIN:VEVENT
DTSTART:20190608T140000Z
DTEND:20190608T190000Z
LOCATION:Santa Clarita, CA 91355
TRANSP: OPAQUE
SEQUENCE:0
UID:
DTSTAMP:20260420T020818Z
SUMMARY:  Huge Sale: Over 4,800 sq Feet - Open House Shopping Event. 1000's of Items and Furniture, Player Piano...
DESCRIPTION:  Huge Sale: Over 4,800 sq Feet - Open House Shopping Event. 1000's of Items and Furniture, Player Piano... Triumphant Estate Sales of Los Angeles 
UID:1776672498
STREET-ADDRESS:See website
POSTAL-CODE:91355
LOCALITY:Santa Clarita
REGION:ABBREV=CA
COUNTRY:ABBREV=US;ABBREV=USA:United States
URL;TYPE=Event Listing:https://estatesales.org/estate-sales/ca/santa-clarita/91355/huge-sale-over-4800-sq-1670729
PRIORITY:1
CLASS:PUBLIC
SEQUENCE:0
STATUS:CONFIRMED
TRANSP:OPAQUE
END:VEVENT
END:VCALENDAR
