BEGIN:VCALENDAR
VERSION:2.0
METHOD:PUBLISH
BEGIN:VEVENT
DTSTART:20250607T160000Z
DTEND:20250608T200000Z
LOCATION:Camp Verde, AZ 86322
TRANSP: OPAQUE
SEQUENCE:0
UID:
DTSTAMP:20260423T072548Z
SUMMARY:Equestrian Estate by Grasons Scottsdale
DESCRIPTION:Equestrian Estate by Grasons Scottsdale Grasons of Scottsdale, AZ 
UID:1776950748
STREET-ADDRESS:See website
POSTAL-CODE:86322
LOCALITY:Camp Verde
REGION:ABBREV=AZ
COUNTRY:ABBREV=US;ABBREV=USA:United States
URL;TYPE=Event Listing:https://estatesales.org/estate-sales/az/camp-verde/86322/equestrian-estate-by-grasons-scottsdale-2382050
PRIORITY:1
CLASS:PUBLIC
SEQUENCE:0
STATUS:CONFIRMED
TRANSP:OPAQUE
END:VEVENT
END:VCALENDAR
