BEGIN:VCALENDAR
VERSION:2.0
METHOD:PUBLISH
BEGIN:VEVENT
DTSTART:20250607T130000Z
DTEND:20250607T200000Z
LOCATION:Syracuse, NY 13224
TRANSP: OPAQUE
SEQUENCE:0
UID:
DTSTAMP:20260423T074749Z
SUMMARY:Scott Ave Estate Sale
DESCRIPTION:Scott Ave Estate Sale Clear Horizon Estate Services 
UID:1776952069
STREET-ADDRESS:See website
POSTAL-CODE:13224
LOCALITY:Syracuse
REGION:ABBREV=NY
COUNTRY:ABBREV=US;ABBREV=USA:United States
URL;TYPE=Event Listing:https://estatesales.org/estate-sales/ny/syracuse/13224/scott-ave-estate-sale-2382735
PRIORITY:1
CLASS:PUBLIC
SEQUENCE:0
STATUS:CONFIRMED
TRANSP:OPAQUE
END:VEVENT
END:VCALENDAR
