BEGIN:VCALENDAR
VERSION:2.0
METHOD:PUBLISH
BEGIN:VEVENT
DTSTART:20240607T160000Z
DTEND:20240608T220000Z
LOCATION:Carnation, WA 98014
TRANSP: OPAQUE
SEQUENCE:0
UID:
DTSTAMP:20260424T133559Z
SUMMARY:Carnation moving estate sale
DESCRIPTION:Carnation moving estate sale A&W Helping Hands Estate Sale services and full cleanouts 
UID:1777059359
STREET-ADDRESS:See website
POSTAL-CODE:98014
LOCALITY:Carnation
REGION:ABBREV=WA
COUNTRY:ABBREV=US;ABBREV=USA:United States
URL;TYPE=Event Listing:https://estatesales.org/estate-sales/wa/carnation/98014/carnation-moving-estate-sale-2320110
PRIORITY:1
CLASS:PUBLIC
SEQUENCE:0
STATUS:CONFIRMED
TRANSP:OPAQUE
END:VEVENT
END:VCALENDAR
