BEGIN:VCALENDAR
VERSION:2.0
METHOD:PUBLISH
BEGIN:VEVENT
DTSTART:20240607T140000Z
DTEND:20240608T220000Z
LOCATION:Cascade, CO 80809
TRANSP: OPAQUE
SEQUENCE:0
UID:
DTSTAMP:20260420T204011Z
SUMMARY:Antiques, antiques and more antiques!
DESCRIPTION:Antiques, antiques and more antiques! Total Care Estate and Property Services 
UID:1776739211
STREET-ADDRESS:See website
POSTAL-CODE:80809
LOCALITY:Cascade
REGION:ABBREV=CO
COUNTRY:ABBREV=US;ABBREV=USA:United States
URL;TYPE=Event Listing:https://estatesales.org/estate-sales/co/cascadechipita-park/80809/antiques-antiques-and-more-antiques-2319273
PRIORITY:1
CLASS:PUBLIC
SEQUENCE:0
STATUS:CONFIRMED
TRANSP:OPAQUE
END:VEVENT
END:VCALENDAR
