BEGIN:VCALENDAR
VERSION:2.0
METHOD:PUBLISH
BEGIN:VEVENT
DTSTART:20180607T140000Z
DTEND:20180609T190000Z
LOCATION:Wyandotte, MI 48192
TRANSP: OPAQUE
SEQUENCE:0
UID:
DTSTAMP:20260424T011619Z
SUMMARY:INCREDIBLE WYANDOTTE ESTATE SALE!
DESCRIPTION:INCREDIBLE WYANDOTTE ESTATE SALE! TLC Premiere Estate Sales, LLC 
UID:1777014979
STREET-ADDRESS:See website
POSTAL-CODE:48192
LOCALITY:Wyandotte
REGION:ABBREV=MI
COUNTRY:ABBREV=US;ABBREV=USA:United States
URL;TYPE=Event Listing:https://estatesales.org/estate-sales/mi/wyandotte/48192/incredible-wyandotte-estate-sale-1525337
PRIORITY:1
CLASS:PUBLIC
SEQUENCE:0
STATUS:CONFIRMED
TRANSP:OPAQUE
END:VEVENT
END:VCALENDAR
