BEGIN:VCALENDAR
VERSION:2.0
METHOD:PUBLISH
BEGIN:VEVENT
DTSTART:20260606T140000Z
DTEND:20260607T180000Z
LOCATION:Hammonton, NJ 08037 (Full address will be shown on Sat, Jun 6 9:00am)
TRANSP: OPAQUE
SEQUENCE:0
UID:
DTSTAMP:20260423T031947Z
SUMMARY:Estate Sale in Hammonton, NJ
DESCRIPTION:Estate Sale in Hammonton, NJ B&B Estate Sales 
UID:1776935987
STREET-ADDRESS:See website
POSTAL-CODE:08037
LOCALITY:Hammonton
REGION:ABBREV=NJ
COUNTRY:ABBREV=US;ABBREV=USA:United States
URL;TYPE=Event Listing:https://estatesales.org/estate-sales/nj/hammonton/08037/estate-sale-in-hammonton-nj-2436755
PRIORITY:1
CLASS:PUBLIC
SEQUENCE:0
STATUS:CONFIRMED
TRANSP:OPAQUE
END:VEVENT
END:VCALENDAR
